BEGIN:VCALENDAR
VERSION:2.0
PRODID:-//Plone.org//NONSGML plone.app.event//EN
X-WR-TIMEZONE:Europe/Madrid
BEGIN:VEVENT
SUMMARY:Portes Obertes FME I - Matí
DTSTART;TZID=Europe/Madrid:20200212T100000
DTEND;TZID=Europe/Madrid:20200212T130000
DTSTAMP:20260425T163931Z
UID:ee54aa33c5da4b1d8ebd7a544ce09eef@genwebv4.upc.edu
CREATED:20191116T193140Z
DESCRIPTION:Jornada de Portes Obertes a la Facultat de Matemàtiques i Est
 adística de la Universitat Politècnica de Catalunya.
LAST-MODIFIED:20191116T200246Z
LOCATION:C/ Pau Gargallo\, 14\, Facultat de Matemàtiques i Estadística
URL:https://dse.upc.edu/en/admission/portes-obertes/portes-obertes-fme-i
END:VEVENT
BEGIN:VEVENT
SUMMARY:Portes Obertes FME I - Tarda
DTSTART;TZID=Europe/Madrid:20200212T153000
DTEND;TZID=Europe/Madrid:20200212T183000
DTSTAMP:20260425T163931Z
UID:ee54aa33c5da4b1d8ebd7a544ce09eef@genwebv4.upc.edu
CONTACT:Jordi Cortadella
CREATED:20191116T193140Z
DESCRIPTION:Jornada de Portes Obertes a la Facultat de Matemàtiques i Est
 adística de la Universitat Politècnica de Catalunya.
LAST-MODIFIED:20191116T195139Z
LOCATION:C/ Pau Gargallo\, 14\, Facultat de Matemàtiques i Estadística
URL:https://dse.upc.edu/en/admission/portes-obertes/copy_of_portes-obertes
 -fme-i
END:VEVENT
BEGIN:VEVENT
SUMMARY:Portes Obertes ETSETB I - Tarda
DTSTART;TZID=Europe/Madrid:20200304T163000
DTEND;TZID=Europe/Madrid:20200304T193000
DTSTAMP:20260425T163931Z
UID:ee54aa33c5da4b1d8ebd7a544ce09eef@genwebv4.upc.edu
CREATED:20191116T193140Z
DESCRIPTION:Jornada de Portes Obertes a l'Escola Tècnica Superior d'Engin
 yeria de Telecomunicació de Barcelona de la Universitat Politècnica de C
 atalunya.
LAST-MODIFIED:20191116T195139Z
LOCATION:Edificio B3 - Campus Nord UPC 1-3\, Carrer de Jordi Girona\, 0803
 4 Barcelona
URL:https://dse.upc.edu/en/admission/portes-obertes/copy2_of_portes-oberte
 s-fme-i
END:VEVENT
BEGIN:VEVENT
SUMMARY:Portes Obertes FIB I - Matí
DTSTART;TZID=Europe/Madrid:20200328T110000
DTEND;TZID=Europe/Madrid:20200328T140000
DTSTAMP:20260425T163931Z
UID:ee54aa33c5da4b1d8ebd7a544ce09eef@genwebv4.upc.edu
CREATED:20191116T193140Z
DESCRIPTION:Jornada de Portes Obertes a la Facultat d'Informàtica de Barc
 elona de la Universitat Politècnica de Catalunya.
LAST-MODIFIED:20191116T195139Z
LOCATION:Edifici B6 del Campus Nord\, C/Jordi Girona\, 1-3\, 08034 Barcelo
 na
URL:https://dse.upc.edu/en/admission/portes-obertes/copy3_of_portes-oberte
 s-fme-i
END:VEVENT
BEGIN:VEVENT
SUMMARY:Portes Obertes FME II - Tarda
DTSTART;TZID=Europe/Madrid:20200331T170000
DTEND;TZID=Europe/Madrid:20200331T200000
DTSTAMP:20260425T163931Z
UID:ee54aa33c5da4b1d8ebd7a544ce09eef@genwebv4.upc.edu
CONTACT:Jordi Cortadella
CREATED:20191116T193140Z
DESCRIPTION:Jornada de Portes Obertes a la Facultat de Matemàtiques i Est
 adística de la Universitat Politècnica de Catalunya.
LAST-MODIFIED:20191116T195139Z
LOCATION:C/ Pau Gargallo\, 14\, Facultat de Matemàtiques i Estadística
URL:https://dse.upc.edu/en/admission/portes-obertes/copy4_of_portes-oberte
 s-fme-i
END:VEVENT
BEGIN:VEVENT
SUMMARY:Portes Obertes FME III - Matí
DTSTART;TZID=Europe/Madrid:20200425T110000
DTEND;TZID=Europe/Madrid:20200425T140000
DTSTAMP:20260425T163931Z
UID:ee54aa33c5da4b1d8ebd7a544ce09eef@genwebv4.upc.edu
CREATED:20191116T193140Z
DESCRIPTION:Jornada de Portes Obertes a la Facultat de Matemàtiques i Est
 adística de la Universitat Politècnica de Catalunya.
LAST-MODIFIED:20191116T195835Z
LOCATION:C/ Pau Gargallo\, 14\, Facultat de Matemàtiques i Estadística
URL:https://dse.upc.edu/en/admission/portes-obertes/copy5_of_portes-oberte
 s-fme-i
END:VEVENT
BEGIN:VEVENT
SUMMARY:Portes Obertes ETSETB II - Tarda
DTSTART;TZID=Europe/Madrid:20200506T163000
DTEND;TZID=Europe/Madrid:20200506T193000
DTSTAMP:20260425T163931Z
UID:ee54aa33c5da4b1d8ebd7a544ce09eef@genwebv4.upc.edu
CREATED:20191116T193140Z
DESCRIPTION:Jornada de Portes Obertes a l'Escola Tècnica Superior d'Engin
 yeria de Telecomunicació de Barcelona de la Universitat Politècnica de C
 atalunya.
LAST-MODIFIED:20191116T195140Z
LOCATION:Edificio B3 - Campus Nord UPC 1-3\, Carrer de Jordi Girona\, 0803
 4 Barcelona
URL:https://dse.upc.edu/en/admission/portes-obertes/copy6_of_portes-oberte
 s-fme-i
END:VEVENT
BEGIN:VEVENT
SUMMARY:Portes Obertes FIB II - Tarda
DTSTART;TZID=Europe/Madrid:20200417T170000
DTEND;TZID=Europe/Madrid:20200417T200000
DTSTAMP:20260425T163931Z
UID:ee54aa33c5da4b1d8ebd7a544ce09eef@genwebv4.upc.edu
CREATED:20191116T193140Z
DESCRIPTION:Jornada de Portes Obertes a la Facultat d'Informàtica de Barc
 elona de la Universitat Politècnica de Catalunya.
LAST-MODIFIED:20191116T195140Z
LOCATION:Edifici B6 del Campus Nord\, C/Jordi Girona\, 1-3\, 08034 Barcelo
 na
URL:https://dse.upc.edu/en/admission/portes-obertes/copy7_of_portes-oberte
 s-fme-i
END:VEVENT
BEGIN:VEVENT
SUMMARY:Saló de l'Ensenyament 2020
DTSTART;VALUE=DATE:20200318
DTEND;VALUE=DATE:20200323
DTSTAMP:20260425T163932Z
UID:af9ed8e131cc47efaf7d4d70bf20dcfa@genwebv4.upc.edu
CREATED:20191116T200801Z
DESCRIPTION:El grau de Ciència i Enginyeria de les Dades estarà present 
 a l'estand UPC del Saló 2020.
LAST-MODIFIED:20191116T201221Z
URL:https://dse.upc.edu/en/admission/portes-obertes/salo-de-lensenyament-2
 020
END:VEVENT
BEGIN:VTIMEZONE
TZID:Europe/Madrid
X-LIC-LOCATION:Europe/Madrid
BEGIN:STANDARD
DTSTART:20191027T020000
TZNAME:CET
TZOFFSETFROM:+0200
TZOFFSETTO:+0100
END:STANDARD
BEGIN:DAYLIGHT
DTSTART:20200329T030000
TZNAME:CEST
TZOFFSETFROM:+0100
TZOFFSETTO:+0200
END:DAYLIGHT
END:VTIMEZONE
END:VCALENDAR
